BEGIN:VCALENDAR
PRODID:-//AT Content Types//AT Event//EN
VERSION:1.0
BEGIN:VEVENT
DTSTART:20160801T163000Z
DTEND:20160801T200000Z
DCREATED:20160701T161103Z
UID:ATEvent-90ecfc712edee949d92da4165950393a
SEQUENCE:0
LAST-MODIFIED:20160803T161413Z
SUMMARY:11ª Reunião Ordinária 2016
LOCATION:Plenário da Câmara Municipal de Carneirinho
PRIORITY:3
TRANSP:0
END:VEVENT
END:VCALENDAR
