BEGIN:VCALENDAR
PRODID:-//AT Content Types//AT Event//EN
VERSION:1.0
BEGIN:VEVENT
DTSTART:20100816T163000Z
DTEND:20100816T203000Z
DCREATED:20100804T153113Z
UID:ATEvent-18883fdb4dc5a2e27bcda8d52b094039
SEQUENCE:0
LAST-MODIFIED:20160321T171709Z
SUMMARY:12a Sessão Ordinária
DESCRIPTION:Convocação para a 12a Sessão Ordinária de 2010.
LOCATION:Plenário da Câmara Municipal de Carneirinho
PRIORITY:3
TRANSP:0
END:VEVENT
END:VCALENDAR
