BEGIN:VCALENDAR
PRODID:-//AT Content Types//AT Event//EN
VERSION:2.0
METHOD:PUBLISH
BEGIN:VEVENT
DTSTAMP:20260425T135039Z
CREATED:20160701T161047Z
UID:ATEvent-6aa5fbcba39fdee051b1b55425b6d3cc
LAST-MODIFIED:20160803T161355Z
SUMMARY:3ª Reunião Extraordinária 2016
DTSTART:20160512T163000Z
DTEND:20160512T163000Z
LOCATION:Plenário da Câmara Municipal de Carneirinho
CATEGORIES:Ordinária
CONTACT:Adjane Luiza de Queiroz \, 034 3454 1275\, secretaria@carneirinho.mg.leg.br
URL:http://sapl.carneirinho.mg.leg.br/sapl/consultas/sessao_plenaria/sessao_plenaria_index_html
CLASS:PUBLIC
END:VEVENT
END:VCALENDAR
