BEGIN:VCALENDAR
PRODID:-//AT Content Types//AT Event//EN
VERSION:2.0
METHOD:PUBLISH
BEGIN:VEVENT
DTSTAMP:20260425T213001Z
CREATED:20160701T161057Z
UID:ATEvent-82dd19cfc81c7b62b065bb5cf6c6623f
LAST-MODIFIED:20160803T161404Z
SUMMARY:4ª Reunião Extraordinária 2016
DTSTART:20160607T130500Z
DTEND:20160607T143000Z
LOCATION:Plenário da Câmara Municipal de Carneirinho
CATEGORIES:Ordinária
CONTACT:Adjane Luiza de Queiroz \, 034 3454 1275\, secretaria@carneirinho.mg.leg.br
URL:http://sapl.carneirinho.mg.leg.br/sapl/consultas/sessao_plenaria/sessao_plenaria_index_html
CLASS:PUBLIC
END:VEVENT
END:VCALENDAR
