BEGIN:VCALENDAR
PRODID:-//AT Content Types//AT Event//EN
VERSION:2.0
METHOD:PUBLISH
BEGIN:VEVENT
DTSTAMP:20260425T135037Z
CREATED:20160321T172528Z
UID:ATEvent-a5815e33059bba6eefe226d5e48ab6e9
LAST-MODIFIED:20160803T161337Z
SUMMARY:4ª Reunião Ordinária 2016
DTSTART:20160321T163000Z
DTEND:20160321T203000Z
CATEGORIES:Ordinária
CONTACT:Adjane Luiza de Queiroz \, 034 3454 1275\, secretaria@carneirinho.mg.leg.br
CLASS:PUBLIC
END:VEVENT
END:VCALENDAR
