BEGIN:VCALENDAR
PRODID:-//AT Content Types//AT Event//EN
VERSION:2.0
METHOD:PUBLISH
BEGIN:VEVENT
DTSTAMP:20260426T010940Z
CREATED:20160321T172526Z
UID:ATEvent-088ee19b3ea80f9da5c0a289b1cfe135
LAST-MODIFIED:20160803T161331Z
SUMMARY:5ª Reunião Ordinária 2016
DTSTART:20160404T163000Z
DTEND:20160404T203000Z
CATEGORIES:Ordinária
CONTACT:Adjane Luiza de Queiroz \, 034 3454 1275\, secretaria@carneirinho.mg.leg.br
CLASS:PUBLIC
END:VEVENT
END:VCALENDAR
