BEGIN:VCALENDAR
PRODID:-//AT Content Types//AT Event//EN
VERSION:2.0
METHOD:PUBLISH
BEGIN:VEVENT
DTSTAMP:20260426T004609Z
CREATED:20160803T161210Z
UID:ATEvent-aeb8dacb03592121eb93c32dd19bb13d
LAST-MODIFIED:20160803T161254Z
SUMMARY:6ª Reunião extraordinária de 2016
DTSTART:20160803T180000Z
DTEND:20160803T200000Z
LOCATION:Sala de reuniões da Câmara Municipal de Carneirinho
CATEGORIES:Extraordinária
CONTACT:Adjane Luiza de Queiroz \, 034 3454 1275\, secretaria@carneirinho.mg.leg.br
CLASS:PUBLIC
END:VEVENT
END:VCALENDAR
