BEGIN:VCALENDAR
PRODID:-//AT Content Types//AT Event//EN
VERSION:2.0
METHOD:PUBLISH
BEGIN:VEVENT
DTSTAMP:20260425T230646Z
CREATED:20130401T131204Z
UID:ATEvent-bbe653cbaedd475406cd6c110c448ec0
LAST-MODIFIED:20160321T171811Z
SUMMARY:Convocação para 5ª Reunião Ordinária de 2013.
DTSTART:20130401T163000Z
DTEND:20130401T203000Z
DESCRIPTION:O Vereador Ernesto Carneiro Leão Neves Vilela\, President
 e da Câmara Municipal de Carneirinho\, Estado de Minas Gerais\, no us
 o das atribuições que lhe confere o art. 30 - II - “a” do Regime
 nto Interno.
LOCATION:Sala de sessões plenárias da Câmara Municipal de Carneirinho
CATEGORIES:Reunião,Ordinária
CONTACT:Adjane Luiza de Queiroz\, 034 3454 1275\, secretaria@carneirinho.mg.leg.br
URL:http://sapl.carneirinho.mg.leg.br/sapl/consultas/pauta_sessao/pauta_sessao_plen_mostrar_proc?cod_sessao_plen=75&dat_sessao=01/04/2013
CLASS:PUBLIC
END:VEVENT
END:VCALENDAR
