BEGIN:VCALENDAR
PRODID:-//AT Content Types//AT Event//EN
VERSION:2.0
METHOD:PUBLISH
BEGIN:VEVENT
DTSTAMP:20260425T230647Z
CREATED:20130506T155232Z
UID:ATEvent-767e1fccd707d85353f4c0b87eaf81f9
LAST-MODIFIED:20160321T171846Z
SUMMARY:Convocação para 7ª Reunião Ordinária de 2013
DTSTART:20130506T163000Z
DTEND:20130506T203000Z
DESCRIPTION:O Vereador Ernesto Carneiro Leão Neves Vilela\, President
 e da Câmara Municipal de Carneirinho\, Estado de Minas Gerais\, no us
 o das atribuições que lhe confere o art. 30 - II - “a” do Regime
 nto Interno.
LOCATION:Sala de reuniões da Câmara Municipal de Carneirinho
CATEGORIES:Reunião,Ordinária
CONTACT:Adjane Luiza de Queiroz\, 03434541275\, secretaria@carneirinho.mg.leg.br
CLASS:PUBLIC
END:VEVENT
END:VCALENDAR
