BEGIN:VCALENDAR
PRODID:-//AT Content Types//AT Event//EN
VERSION:2.0
METHOD:PUBLISH
BEGIN:VEVENT
DTSTAMP:20260424T222005Z
CREATED:20180122T132613Z
UID:ATEvent-4d4bccfeadc660030ce817f704c2e955
LAST-MODIFIED:20180122T132651Z
SUMMARY:01ª reunião extraordinária de 2018
DTSTART:20180122T153000Z
DTEND:20180122T190500Z
LOCATION:Plenário da Câmara Municipal de Carneirinho
CATEGORIES:Extraordinária
CONTACT:Adjane Luiza de Queiroz\, 034 3454 1275\, secretaria@carneirinho.mg.leg.br
URL:http://sapl.carneirinho.mg.leg.br/sapl/consultas/sessao_plenaria/sessao_plenaria_index_html
CLASS:PUBLIC
END:VEVENT
END:VCALENDAR
