BEGIN:VCALENDAR
PRODID:-//AT Content Types//AT Event//EN
VERSION:2.0
METHOD:PUBLISH
BEGIN:VEVENT
DTSTAMP:20260425T201908Z
CREATED:20130603T161654Z
UID:ATEvent-dbd9bd0307ce1d375968857f8bedfb9c
LAST-MODIFIED:20130617T141218Z
SUMMARY:10ª Reunião Ordinária de 2013.
DTSTART:20130617T163000Z
DTEND:20130617T200000Z
DESCRIPTION:O Vereador Ernesto Carneiro Leão Neves Vilela\, President
 e da Câmara Municipal de Carneirinho\, Estado de Minas Gerais\, no us
 o das atribuições que lhe confere o art. 30 - II - “a” do Regime
 nto Interno.
LOCATION:Sala de reuniões da Câmara Municipal de Carneirinho
CONTACT:Adjane Luiza de Queiroz\, 03434541275\, secretaria@carneirinho.mg.leg.br
CLASS:PUBLIC
END:VEVENT
END:VCALENDAR
