BEGIN:VCALENDAR
PRODID:-//AT Content Types//AT Event//EN
VERSION:2.0
METHOD:PUBLISH
BEGIN:VEVENT
DTSTAMP:20260425T171424Z
CREATED:20110801T131114Z
UID:ATEvent-c9c911c5419ef7185bef93952014f22e
LAST-MODIFIED:20110801T133057Z
SUMMARY:11ª Reunião Ordinária de 2011
DTSTART:20110801T163000Z
DTEND:20110801T203000Z
DESCRIPTION:O Vereador Luis Antônio da Silva\, Presidente da Câmara 
 Municipal de Carneirinho\, Estado de Minas Gerais\, no uso das atribui
 ções que lhe confere o art. 30 - II - “a” do Regimento Interno.
LOCATION:Sala de Reuniões\, Câmara Municipal de Carneirinho.
CONTACT:Adjane Luiza de Queiroz\, 034 3454 1340\, secretaria@cmcarneirinho.mg.gov.br
CLASS:PUBLIC
END:VEVENT
END:VCALENDAR
