BEGIN:VCALENDAR
PRODID:-//AT Content Types//AT Event//EN
VERSION:1.0
BEGIN:VEVENT
DTSTART:20130701T163000Z
DTEND:20130701T203000Z
DCREATED:20130701T164621Z
UID:ATEvent-f2d42a444f8d8bca5b798bbc52c5dc7b
SEQUENCE:0
LAST-MODIFIED:20130805T163805Z
SUMMARY:11ª Reunião Ordinária de 2013.
DESCRIPTION:O Vereador Ernesto Carneiro Leão Neves Vilela\, President
 e da Câmara Municipal de Carneirinho\, Estado de Minas Gerais\, no us
 o das atribuições que lhe confere o art. 30 - II - “a” do Regime
 nto Interno.
LOCATION:Sala de reuniões da Câmara Municipal de Carneirinho
PRIORITY:3
TRANSP:0
END:VEVENT
END:VCALENDAR
