BEGIN:VCALENDAR
PRODID:-//AT Content Types//AT Event//EN
VERSION:2.0
METHOD:PUBLISH
BEGIN:VEVENT
DTSTAMP:20260424T230501Z
CREATED:20171221T152325Z
UID:ATEvent-ee92f22ad4eb3f58a7ed4d08c7c8968f
LAST-MODIFIED:20171221T152337Z
SUMMARY:12ª reunião extraordinária de 2017
DTSTART:20171221T150000Z
DTEND:20171221T190000Z
LOCATION:Plenário da Câmara Municipal de Carneirinho
CATEGORIES:Ordinária
CONTACT:Adjane Luiza de Queiroz\, 034 3454 1275\, secretaria@carneirinho.mg.leg.br
URL:http://sapl.carneirinho.mg.leg.br/sapl/consultas/sessao_plenaria/sessao_plenaria_index_html
CLASS:PUBLIC
END:VEVENT
END:VCALENDAR
