BEGIN:VCALENDAR
PRODID:-//AT Content Types//AT Event//EN
VERSION:2.0
METHOD:PUBLISH
BEGIN:VEVENT
DTSTAMP:20260425T201908Z
CREATED:20160905T130725Z
UID:ATEvent-aff9cc9c310dd545a92abadde11f1abf
LAST-MODIFIED:20161107T104553Z
SUMMARY:13ª Reunião Ordinária 2016
DTSTART:20160905T163000Z
DTEND:20160905T203000Z
LOCATION:Plenário da Câmara Municipal de Carneirinho
CATEGORIES:Ordinária
CONTACT:Adjane Luiza de Queiroz \, 034 3454 1275\, secretaria@carneirinho.mg.leg.br
URL:http://sapl.carneirinho.mg.leg.br/sapl/consultas/sessao_plenaria/sessao_plenaria_index_html
CLASS:PUBLIC
END:VEVENT
END:VCALENDAR
