BEGIN:VCALENDAR
PRODID:-//AT Content Types//AT Event//EN
VERSION:2.0
METHOD:PUBLISH
BEGIN:VEVENT
DTSTAMP:20260425T135050Z
CREATED:20160919T134130Z
UID:ATEvent-961a3c6efb1622ece34b0f646777c6a6
LAST-MODIFIED:20161107T104808Z
SUMMARY:16ª Reunião Ordinária 2016
DTSTART:20161017T153000Z
DTEND:20161017T190000Z
LOCATION:Plenário da Câmara Municipal de Carneirinho
CATEGORIES:Ordinária
CONTACT:Adjane Luiza de Queiroz \, 034 3454 1275\, secretaria@carneirinho.mg.leg.br
URL:http://sapl.carneirinho.mg.leg.br/sapl/consultas/sessao_plenaria/sessao_plenaria_index_html
CLASS:PUBLIC
END:VEVENT
END:VCALENDAR
