BEGIN:VCALENDAR
PRODID:-//AT Content Types//AT Event//EN
VERSION:2.0
METHOD:PUBLISH
BEGIN:VEVENT
DTSTAMP:20260425T033620Z
CREATED:20170821T173234Z
UID:ATEvent-371c4e1d9c0a600b189118690dd4e2c5
LAST-MODIFIED:20171002T122744Z
SUMMARY:14ª reunião ordinária de 2017
DTSTART:20170918T163000Z
DTEND:20170918T203000Z
LOCATION:Plenário da Câmara Municipal de Carneirinho
CATEGORIES:Ordinária
CONTACT:Adjane Luiza de Queiroz \, 034 3454 1275\, secretaria@carneirinho.mg.leg.br
URL:http://sapl.carneirinho.mg.leg.br/sapl/consultas/sessao_plenaria/sessao_plenaria_index_html
CLASS:PUBLIC
END:VEVENT
END:VCALENDAR
