BEGIN:VCALENDAR
PRODID:-//AT Content Types//AT Event//EN
VERSION:2.0
METHOD:PUBLISH
BEGIN:VEVENT
DTSTAMP:20260426T021929Z
CREATED:20111101T192201Z
UID:ATEvent-0e0b71b442c8ab4dde9430f94bbe38ca
LAST-MODIFIED:20120209T115040Z
SUMMARY:16ª Reunião Ordinária de 2011
DTSTART:20111017T153000Z
DTEND:20111017T193000Z
DESCRIPTION:O Vereador Luis Antônio da Silva\, Presidente da Câmara 
 Municipal de Carneirinho\, Estado de Minas Gerais\, no uso das atribui
 ções que lhe confere o art. 30 - II - “a” do Regimento Interno.
LOCATION:Sala de Sessões Plenária
CONTACT:Adjane Luiza de Queiroz\, 553434541275\, secretaria@cmcarneirinho.mg.gov.br
CLASS:PUBLIC
END:VEVENT
END:VCALENDAR
