BEGIN:VCALENDAR
PRODID:-//AT Content Types//AT Event//EN
VERSION:2.0
METHOD:PUBLISH
BEGIN:VEVENT
DTSTAMP:20260425T135037Z
CREATED:20111101T192012Z
UID:ATEvent-1130d0ee287fd95e80280ed8e2f9eeca
LAST-MODIFIED:20120209T115035Z
SUMMARY:15ª Reunião Ordinária de 2011
DTSTART:20111003T163000Z
DTEND:20111003T203000Z
DESCRIPTION:O Vereador Luis Antônio da Silva\, Presidente da Câmara 
 Municipal de Carneirinho\, Estado de Minas Gerais\, no uso das atribui
 ções que lhe confere o art. 30 - II - “a” do Regimento Interno.
LOCATION:Sala de Sessões Plenária
CATEGORIES:Reunião,Ordinária
CONTACT:Adjane Luiza de Queiroz\, + 55 34 34541340\, secretaria@cmcarneirinho.mg.gov.br
CLASS:PUBLIC
END:VEVENT
END:VCALENDAR
