BEGIN:VCALENDAR
PRODID:-//AT Content Types//AT Event//EN
VERSION:2.0
METHOD:PUBLISH
BEGIN:VEVENT
DTSTAMP:20260425T040805Z
CREATED:20171002T122707Z
UID:ATEvent-3f0e124ba08d514b757a7459b349a543
LAST-MODIFIED:20171002T122726Z
SUMMARY:15ª reunião ordinária de 2017
DTSTART:20171002T163000Z
DTEND:20171002T200000Z
LOCATION:Plenário da Câmara Municipal de Carneirinho
CATEGORIES:Ordinária
CONTACT:Adjane Luiza de Queiroz\, 034 3454 1275\, secretaria@carneirinho.mg.leg.br
URL:http://sapl.carneirinho.mg.leg.br/sapl/consultas/sessao_plenaria/sessao_plenaria_index_html
CLASS:PUBLIC
END:VEVENT
END:VCALENDAR
