BEGIN:VCALENDAR
PRODID:-//AT Content Types//AT Event//EN
VERSION:1.0
BEGIN:VEVENT
DTSTART:20131007T163000Z
DTEND:20131007T200000Z
DCREATED:20131007T181715Z
UID:ATEvent-cb52578e35e7da258d3b6eafe105729d
SEQUENCE:0
LAST-MODIFIED:20131007T183135Z
SUMMARY:16ª Reunião Ordinária de 2013.
DESCRIPTION:O Vereador Ernesto Carneiro Leão Neves Vilela\, President
 e da Câmara Municipal de Carneirinho\, Estado de Minas Gerais\, no us
 o das atribuições que lhe confere o art. 30 - II - “a” do Regime
 nto Interno.
LOCATION:Sala de sessões plenárias.
PRIORITY:3
TRANSP:0
END:VEVENT
END:VCALENDAR
