BEGIN:VCALENDAR
PRODID:-//AT Content Types//AT Event//EN
VERSION:2.0
METHOD:PUBLISH
BEGIN:VEVENT
DTSTAMP:20260425T162719Z
CREATED:20171030T134913Z
UID:ATEvent-87808e16bc98cccbc20c0e577a866066
LAST-MODIFIED:20171030T135511Z
SUMMARY:17ª reunião extraordinária de 2017
DTSTART:20171030T153000Z
DTEND:20171030T193000Z
LOCATION:Plenário da Câmara Municipal de Carneirinho
CATEGORIES:Extraordinária
CONTACT:Adjane Luiza de Queiroz\, 034 3454 1275\, secretaria@carneirinho.mg.leg.br
URL:http://sapl.carneirinho.mg.leg.br/sapl/consultas/sessao_plenaria/sessao_plenaria_index_html
CLASS:PUBLIC
END:VEVENT
END:VCALENDAR
