BEGIN:VCALENDAR
PRODID:-//AT Content Types//AT Event//EN
VERSION:1.0
BEGIN:VEVENT
DTSTART:20161121T153000Z
DTEND:20161121T193000Z
DCREATED:20161107T104713Z
UID:ATEvent-830573a07a638e2659a2242ac84abd90
SEQUENCE:0
LAST-MODIFIED:20161107T104725Z
SUMMARY:18ª Reunião Ordinária 2018
LOCATION:Plenário da Câmara Municipal de Carneirinho
PRIORITY:3
TRANSP:0
END:VEVENT
END:VCALENDAR
