BEGIN:VCALENDAR
PRODID:-//AT Content Types//AT Event//EN
VERSION:2.0
METHOD:PUBLISH
BEGIN:VEVENT
DTSTAMP:20260425T174150Z
CREATED:20111101T192621Z
UID:ATEvent-3f6a8ee4d24a92123a3b3603b5b00efe
LAST-MODIFIED:20120209T115049Z
SUMMARY:18ª Reunião Ordinária de 2011
DTSTART:20111121T153000Z
DTEND:20111121T193000Z
DESCRIPTION:O Vereador Luis Antônio da Silva\, Presidente da Câmara 
 Municipal de Carneirinho\, Estado de Minas Gerais\, no uso das atribui
 ções que lhe confere o art. 30 - II - “a” do Regimento Interno.
LOCATION:Sala de Sessões Plenária
CONTACT:Adjane Luiza de Queiroz\, + 55 34 34541340\, secretaria@cmcarneirinho.mg.gov.br
CLASS:PUBLIC
END:VEVENT
END:VCALENDAR
