BEGIN:VCALENDAR
PRODID:-//AT Content Types//AT Event//EN
VERSION:2.0
METHOD:PUBLISH
BEGIN:VEVENT
DTSTAMP:20260425T150230Z
CREATED:20131007T182217Z
UID:ATEvent-7d13266858f777d416acef9a9f97c386
LAST-MODIFIED:20131007T183132Z
SUMMARY:18ª Reunião Ordinária de 2013.
DTSTART:20131104T153000Z
DTEND:20131104T190000Z
DESCRIPTION:O Vereador Ernesto Carneiro Leão Neves Vilela\, President
 e da Câmara Municipal de Carneirinho\, Estado de Minas Gerais\, no us
 o das atribuições que lhe confere o art. 30 - II - “a” do Regime
 nto Interno.
LOCATION:Sala de sessões plenárias.
CONTACT:Adjane Luiza de Queiroz\, 034 34541275\, secretaria@carneirinho.mg.leg.br
CLASS:PUBLIC
END:VEVENT
END:VCALENDAR
