BEGIN:VCALENDAR
PRODID:-//AT Content Types//AT Event//EN
VERSION:2.0
METHOD:PUBLISH
BEGIN:VEVENT
DTSTAMP:20260425T135047Z
CREATED:20161214T081206Z
UID:ATEvent-61143739348f92b88d3ed99bceb8974f
LAST-MODIFIED:20161219T110244Z
SUMMARY:8ª Reunião Extraordinária 2018
DTSTART:20161214T160000Z
DTEND:20161214T190000Z
LOCATION:Plenário da Câmara Municipal de Carneirinho
CATEGORIES:Extraordinária
CONTACT:Adjane Luiza de Queiroz \, 034 3454 1275\, secretaria@carneirinho.mg.leg.br
URL:http://sapl.carneirinho.mg.leg.br/sapl/consultas/sessao_plenaria/sessao_plenaria_index_html
CLASS:PUBLIC
END:VEVENT
END:VCALENDAR
