BEGIN:VCALENDAR
PRODID:-//AT Content Types//AT Event//EN
VERSION:2.0
METHOD:PUBLISH
BEGIN:VEVENT
DTSTAMP:20260425T215805Z
CREATED:20161205T093810Z
UID:ATEvent-42a910b816ac4188aab69a87c4d8b159
LAST-MODIFIED:20170113T134650Z
SUMMARY:19ª Reunião Ordinária 2016
DTSTART:20161205T153000Z
DTEND:20161205T193000Z
CATEGORIES:Ordinária
CONTACT:Adjane Luiza de Queiroz \, 034 3454 1275\, secretaria@carneirinho.mg.leg.br
URL:http://sapl.carneirinho.mg.leg.br/sapl/consultas/sessao_plenaria/sessao_plenaria_index_html
CLASS:PUBLIC
END:VEVENT
END:VCALENDAR
