BEGIN:VCALENDAR
PRODID:-//AT Content Types//AT Event//EN
VERSION:2.0
METHOD:PUBLISH
BEGIN:VEVENT
DTSTAMP:20260425T201908Z
CREATED:20131007T182310Z
UID:ATEvent-ebe1d212f860c795cc35eb772c923c3a
LAST-MODIFIED:20131007T183129Z
SUMMARY:19ª Reunião Ordinária de 2013.
DTSTART:20131118T153000Z
DTEND:20131118T190000Z
DESCRIPTION:O Vereador Ernesto Carneiro Leão Neves Vilela\, President
 e da Câmara Municipal de Carneirinho\, Estado de Minas Gerais\, no us
 o das atribuições que lhe confere o art. 30 - II - “a” do Regime
 nto Interno.
LOCATION:Sala de sessões plenárias.
CONTACT:Adjane Luiza de Queiroz\, 034 34541275\, secretaria@carneirinho.mg.leg.br
CLASS:PUBLIC
END:VEVENT
END:VCALENDAR
