BEGIN:VCALENDAR
PRODID:-//AT Content Types//AT Event//EN
VERSION:1.0
BEGIN:VEVENT
DTSTART:20171204T153000Z
DTEND:20171204T190000Z
DCREATED:20171214T180923Z
UID:ATEvent-a0dda9e35a6be84be5153d765f406bd3
SEQUENCE:0
LAST-MODIFIED:20171218T111833Z
SUMMARY:19ª reunião ordinária de 2017
LOCATION:Plenário da Câmara Municipal de Carneirinho
PRIORITY:3
TRANSP:0
END:VEVENT
END:VCALENDAR
