BEGIN:VCALENDAR
PRODID:-//AT Content Types//AT Event//EN
VERSION:1.0
BEGIN:VEVENT
DTSTART:20170113T153000Z
DTEND:20170113T193000Z
DCREATED:20170113T134705Z
UID:ATEvent-59b184c9fe146fc6e6653ed0389c1b58
SEQUENCE:0
LAST-MODIFIED:20170114T182228Z
SUMMARY:1ª Reunião extraordinária de 2017
LOCATION:Plenário da Câmara Municipal de Carneirinho
PRIORITY:3
TRANSP:0
END:VEVENT
END:VCALENDAR
