BEGIN:VCALENDAR
PRODID:-//AT Content Types//AT Event//EN
VERSION:1.0
BEGIN:VEVENT
DTSTART:20120206T153000Z
DTEND:20120206T193000Z
DCREATED:20120204T185159Z
UID:ATEvent-ba007cce466ea1d7446d6afb22f97465
SEQUENCE:0
LAST-MODIFIED:20120209T115054Z
SUMMARY:1ª Reunião Ordinária de 2012
DESCRIPTION:O Vereadora Edna Cristina de Lima\, Presidente da Câmara 
 Municipal de Carneirinho\, Estado de Minas Gerais\, no uso das atribui
 ções que lhe confere o art. 30 - II - “a” do Regimento Interno.
PRIORITY:3
TRANSP:0
END:VEVENT
END:VCALENDAR
