BEGIN:VCALENDAR
PRODID:-//AT Content Types//AT Event//EN
VERSION:2.0
METHOD:PUBLISH
BEGIN:VEVENT
DTSTAMP:20260425T125050Z
CREATED:20170206T111613Z
UID:ATEvent-2858d063b2b138d98b9d6d057c9644b9
LAST-MODIFIED:20170206T113838Z
SUMMARY:1ª reunião ordinária de 2017
DTSTART:20170206T153000Z
DTEND:20170206T193000Z
LOCATION:Plenário da Câmara Municipal de Carneirinho
CATEGORIES:Reunião,Ordinária
CONTACT:Adjane Luiza de Queiroz \, 034 3454 1275\, secretaria@carneirinho.mg.leg.br
URL:http://sapl.carneirinho.mg.leg.br/sapl/consultas/sessao_plenaria/sessao_plenaria_index_html
CLASS:PUBLIC
END:VEVENT
END:VCALENDAR
