BEGIN:VCALENDAR
PRODID:-//AT Content Types//AT Event//EN
VERSION:2.0
METHOD:PUBLISH
BEGIN:VEVENT
DTSTAMP:20260425T174154Z
CREATED:20111219T135012Z
UID:ATEvent-dbb59daef6275ddb091f6631223be95a
LAST-MODIFIED:20120209T115012Z
SUMMARY:20ª Reunião Ordinária de 2011
DTSTART:20111219T153000Z
DTEND:20111219T193000Z
DESCRIPTION:O Vereador Luis Antônio da Silva\, Presidente da Câmara 
 Municipal de Carneirinho\, Estado de Minas Gerais\, no uso das atribui
 ções que lhe confere o art. 30 - II - “a” do Regimento Interno.
LOCATION:Sala de reuniões da CMC
CONTACT:Adjane Luiza de Queiroz\, 03434541340\, secretaria@cmcarneirinho.mg.gov.br
CLASS:PUBLIC
END:VEVENT
END:VCALENDAR
