BEGIN:VCALENDAR
PRODID:-//AT Content Types//AT Event//EN
VERSION:2.0
METHOD:PUBLISH
BEGIN:VEVENT
DTSTAMP:20260425T125053Z
CREATED:20171214T181839Z
UID:ATEvent-0a88472c78690ecdc9b0b4d03b4bc9d0
LAST-MODIFIED:20171218T111828Z
SUMMARY:20ª reunião ordinária de 2017
DTSTART:20171218T150000Z
DTEND:20171218T190000Z
LOCATION:Plenário da Câmara Municipal de Carneirinho
CATEGORIES:Ordinária
CONTACT:Adjane Luiza de Queiroz\, 034 3454 1275\, secretaria@carneirinho.mg.leg.br
URL:http://sapl.carneirinho.mg.leg.br/sapl/consultas/sessao_plenaria/sessao_plenaria_index_html
CLASS:PUBLIC
END:VEVENT
END:VCALENDAR
