BEGIN:VCALENDAR
PRODID:-//AT Content Types//AT Event//EN
VERSION:1.0
BEGIN:VEVENT
DTSTART:20180215T153000Z
DTEND:20180215T193000Z
DCREATED:20180214T135613Z
UID:ATEvent-1983a02d3517b6757f9b54f8fb3e8b93
SEQUENCE:0
LAST-MODIFIED:20180215T232215Z
SUMMARY:2ª reunião extraordinária de 2018 - Cancelada
LOCATION:Plenário da Câmara Municipal de Carneirinho
PRIORITY:3
TRANSP:0
END:VEVENT
END:VCALENDAR
