BEGIN:VCALENDAR
PRODID:-//AT Content Types//AT Event//EN
VERSION:1.0
BEGIN:VEVENT
DTSTART:20170118T180000Z
DTEND:20170118T193000Z
DCREATED:20170118T163822Z
UID:ATEvent-e097ea3eaf3f86d051c3edd735398e0a
SEQUENCE:0
LAST-MODIFIED:20170206T111701Z
SUMMARY:4ª Reunião extraordinária de 2017
LOCATION:Plenário da Câmara Municipal de Carneirinho
PRIORITY:3
TRANSP:0
END:VEVENT
END:VCALENDAR
