BEGIN:VCALENDAR
PRODID:-//AT Content Types//AT Event//EN
VERSION:1.0
BEGIN:VEVENT
DTSTART:20170320T163000Z
DTEND:20170320T203000Z
DCREATED:20170304T115951Z
UID:ATEvent-68de281f09d4ac8fe21722967327c439
SEQUENCE:0
LAST-MODIFIED:20170304T120018Z
SUMMARY:4ª reunião ordinária de 2017
LOCATION:Plenário da Câmara Municipal de Carneirinho
PRIORITY:3
TRANSP:0
END:VEVENT
END:VCALENDAR
