BEGIN:VCALENDAR
PRODID:-//AT Content Types//AT Event//EN
VERSION:2.0
METHOD:PUBLISH
BEGIN:VEVENT
DTSTAMP:20260426T005837Z
CREATED:20170403T140243Z
UID:ATEvent-4aabff75527c4a99e68531b29a825ba8
LAST-MODIFIED:20170403T140311Z
SUMMARY:6ª reunião ordinária de 2017
DTSTART:20170417T163000Z
DTEND:20170417T200000Z
LOCATION:Plenário da Câmara Municipal de Carneirinho
CATEGORIES:Ordinária
CONTACT:Adjane Luiza de Queiroz\, 034 3454 1275\, secretaria@carneirinho.mg.leg.br
URL:http://sapl.carneirinho.mg.leg.br/sapl/consultas/sessao_plenaria/sessao_plenaria_index_html
CLASS:PUBLIC
END:VEVENT
END:VCALENDAR
