BEGIN:VCALENDAR
PRODID:-//AT Content Types//AT Event//EN
VERSION:1.0
BEGIN:VEVENT
DTSTART:20170403T163000Z
DTEND:20170403T203000Z
DCREATED:20170403T135909Z
UID:ATEvent-84e47e8b5cae73b7032458620bd47746
SEQUENCE:0
LAST-MODIFIED:20170403T140321Z
SUMMARY:5ª reunião ordinária de 2017
LOCATION:Plenário da Câmara Municipal de Carneirinho
PRIORITY:3
TRANSP:0
END:VEVENT
END:VCALENDAR
