BEGIN:VCALENDAR
PRODID:-//AT Content Types//AT Event//EN
VERSION:2.0
METHOD:PUBLISH
BEGIN:VEVENT
DTSTAMP:20260425T125050Z
CREATED:20170330T161115Z
UID:ATEvent-0835523b2ccdb5b06b841beaa6db5d9c
LAST-MODIFIED:20170403T140324Z
SUMMARY:6ª reunião extraordinária de 2017
DTSTART:20170330T163000Z
DTEND:20170330T163000Z
LOCATION:Plenário da Câmara Municipal de Carneirinho
CATEGORIES:Extraordinária
CONTACT:Adjane Luiza de Queiroz\, 034 3454 1275\, secretaria@carneirinho.mg.leg.br
URL:http://sapl.carneirinho.mg.leg.br/sapl/consultas/sessao_plenaria/sessao_plenaria_index_html
CLASS:PUBLIC
END:VEVENT
END:VCALENDAR
