BEGIN:VCALENDAR
PRODID:-//AT Content Types//AT Event//EN
VERSION:2.0
METHOD:PUBLISH
BEGIN:VEVENT
DTSTAMP:20260425T174158Z
CREATED:20170508T135420Z
UID:ATEvent-08e608f4b1b011769148f9812fff0392
LAST-MODIFIED:20170604T134252Z
SUMMARY:7ª reunião ordinária de 2017
DTSTART:20170508T163000Z
DTEND:20170508T203000Z
LOCATION:Plenário da Câmara Municipal de Carneirinho
CATEGORIES:Reunião,Ordinária
CONTACT:Adjane Luiza de Queiroz\, 034 3454 1275\, secretaria@carneirinho.mg.leg.br
URL:http://sapl.carneirinho.mg.leg.br/sapl/consultas/sessao_plenaria/sessao_plenaria_index_html
CLASS:PUBLIC
END:VEVENT
END:VCALENDAR
