BEGIN:VCALENDAR
PRODID:-//AT Content Types//AT Event//EN
VERSION:2.0
METHOD:PUBLISH
BEGIN:VEVENT
DTSTAMP:20260425T134823Z
CREATED:20170508T135423Z
UID:ATEvent-1ba6f56e9f040780137738bc09b8f97c
LAST-MODIFIED:20170604T134256Z
SUMMARY:8ª reunião ordinária de 2017
DTSTART:20170515T163000Z
DTEND:20170515T203000Z
LOCATION:Plenário da Câmara Municipal de Carneirinho
CATEGORIES:Reunião,Ordinária
CONTACT:Adjane Luiza de Queiroz\, 034 3454 1275\, secretaria@carneirinho.mg.leg.br
URL:http://sapl.carneirinho.mg.leg.br/sapl/consultas/sessao_plenaria/sessao_plenaria_index_html
CLASS:PUBLIC
END:VEVENT
END:VCALENDAR
