BEGIN:VCALENDAR
PRODID:-//AT Content Types//AT Event//EN
VERSION:1.0
BEGIN:VEVENT
DTSTART:20130603T163000Z
DTEND:20130603T200000Z
DCREATED:20130603T161334Z
UID:ATEvent-0e1a8dacce4cb069a1cc8073d96f457f
SEQUENCE:0
LAST-MODIFIED:20130603T161751Z
SUMMARY:9ª Reunião Ordinária de 2013.
DESCRIPTION:O Vereador Ernesto Carneiro Leão Neves Vilela\, President
 e da Câmara Municipal de Carneirinho\, Estado de Minas Gerais\, no us
 o das atribuições que lhe confere o art. 30 - II - “a” do Regime
 nto Interno.
LOCATION:Sala de reuniões da Câmara Municipal de Carneirinho
PRIORITY:3
TRANSP:0
END:VEVENT
END:VCALENDAR
