BEGIN:VCALENDAR
PRODID:-//AT Content Types//AT Event//EN
VERSION:2.0
METHOD:PUBLISH
BEGIN:VEVENT
DTSTAMP:20260426T034331Z
CREATED:20110103T204236Z
UID:ATEvent-304102b4f3bb89aa5cedcd565c4175e8
LAST-MODIFIED:20110801T130730Z
SUMMARY:Aviso - Periodo sem atendimento público
DTSTART:20110101T020000Z
DTEND:20110111T015500Z
DESCRIPTION:Durante o período de 01/01/2011 a 09/01/2011\, a Câmara 
 Municipal de Carneirinho\, não realizará atendimento ao público (pe
 ssoal e telefônico)\, já que neste período estaremos trabalhando in
 ternamente\, realizando adequações e manutenções em nossa estrutur
 a e equipamentos para melhor atende-los durante a sessão legislativa 
 de 2011.
CONTACT:Angelo Marcondes de Oliveira Net\, 034 3454 1275\, cpd@cmcarneirinho.mg.gov.br
CLASS:PUBLIC
END:VEVENT
END:VCALENDAR
