BEGIN:VCALENDAR
PRODID:-//AT Content Types//AT Event//EN
VERSION:2.0
METHOD:PUBLISH
BEGIN:VEVENT
DTSTAMP:20260425T230646Z
CREATED:20130325T191801Z
UID:ATEvent-78af7ed9f912e517c58030280cd22309
LAST-MODIFIED:20130603T161807Z
SUMMARY:Convocação para 4ª Reunião Extraordinária de 2013
DTSTART:20130325T180000Z
DTEND:20130325T203000Z
DESCRIPTION:O Vereador Ernesto Carneiro Leão Neves Vilela\, President
 e da Câmara Municipal de Carneirinho\, Estado de Minas Gerais\, no us
 o das atribuições que lhe confere o art. 30 - II - “a” do Regime
 nto Interno.
LOCATION:Sala de reuniões desta casa.
CONTACT:Adjane Luiza de Queiroz\, 03434541275\, secretaria@carneirinho.mg.leg.br
CLASS:PUBLIC
END:VEVENT
END:VCALENDAR
