BEGIN:VCALENDAR
PRODID:-//AT Content Types//AT Event//EN
VERSION:2.0
METHOD:PUBLISH
BEGIN:VEVENT
DTSTAMP:20260425T135051Z
CREATED:20120204T185159Z
UID:ATEvent-44336de9fd7f999b6c29400fbf61f3e6
LAST-MODIFIED:20120213T104048Z
SUMMARY:2ª Reunião Ordinária de 2012
DTSTART:20120217T153000Z
DTEND:20120217T193000Z
DESCRIPTION:O Vereadora Edna Cristina de Lima\, Presidente da Câmara 
 Municipal de Carneirinho\, Estado de Minas Gerais\, no uso das atribui
 ções que lhe confere o art. 30 - II - “a” do Regimento Interno.
LOCATION:Sala de Sessões Plenária
CATEGORIES:Ordinária
CONTACT:Adjane Luiza de Queiroz\, (034)34541275\, secretaria@cmcarneirinho.mg.gov.br
CLASS:PUBLIC
END:VEVENT
END:VCALENDAR
