BEGIN:VCALENDAR
PRODID:-//AT Content Types//AT Event//EN
VERSION:2.0
METHOD:PUBLISH
BEGIN:VEVENT
DTSTAMP:20260426T004544Z
CREATED:20110314T163930Z
UID:ATEvent-b1c79fdbb7011ae1700dae6df6c5c7b5
LAST-MODIFIED:20110801T130618Z
SUMMARY:Quarta Reunião Ordinária de 2011
DTSTART:20110321T163000Z
DTEND:20110321T203000Z
DESCRIPTION:O Vereador Luis Antônio da Silva\, Presidente da Câmara 
 Municipal de Carneirinho\, Estado de Minas Gerais\, no uso das atribui
 ções que lhe confere o art. 30 - II - “a” do Regimento Interno.
CONTACT:Adjane Luiza de Queiroz\, 03434541340\, adjaneluiza@gmail.com
CLASS:PUBLIC
END:VEVENT
END:VCALENDAR
