BEGIN:VCALENDAR
PRODID:-//AT Content Types//AT Event//EN
VERSION:1.0
BEGIN:VEVENT
DTSTART:20110404T163000Z
DTEND:20110404T203000Z
DCREATED:20110401T200045Z
UID:ATEvent-f82aff143088f4bfcf286b41d119b6ce
SEQUENCE:0
LAST-MODIFIED:20110801T130723Z
SUMMARY:Quinta Reunião Ordinária de 2011
DESCRIPTION:O Vereador Luis Antônio da Silva\, Presidente da Câmara 
 Municipal de Carneirinho\, Estado de Minas Gerais\, no uso das atribui
 ções que lhe confere o art. 30 - II - “a” do Regimento Interno.
LOCATION:Plenário da Câmara
PRIORITY:3
TRANSP:0
END:VEVENT
END:VCALENDAR
