BEGIN:VCALENDAR
PRODID:-//AT Content Types//AT Event//EN
VERSION:1.0
BEGIN:VEVENT
DTSTART:20110101T210000Z
DTEND:20110201T015500Z
DCREATED:20110103T205510Z
UID:ATEvent-7ed735fab4489cc808f9f89aaf68a027
SEQUENCE:0
LAST-MODIFIED:20110801T130736Z
SUMMARY:Recesso Parlamentar
DESCRIPTION:Informamos que durante o período de 01/01/2011 à 31/01/2
 011\, não haverá expediente para os parlamentares da Câmara Municip
 al de Carneirinho\, pois a mesma encontro-se em "recesso parlamentar"\
 , onde não haverão atividades legislativas\, convocações para sess
 ões ordinárias e extraordinárias.
PRIORITY:3
TRANSP:0
END:VEVENT
END:VCALENDAR
