BEGIN:VCALENDAR
PRODID:-//AT Content Types//AT Event//EN
VERSION:2.0
METHOD:PUBLISH
BEGIN:VEVENT
DTSTAMP:20260425T135701Z
CREATED:20170509T133225Z
UID:ATEvent-2b57116edd659ca436bbc658f11caf65
LAST-MODIFIED:20170604T134245Z
SUMMARY:Reunião do Conselho Municipal de Saúde
DTSTART:20170529T160000Z
DTEND:20170529T200000Z
DESCRIPTION:Apresentação do Relatório Detalhado Quadrimestral
LOCATION:Plenário da Câmara Municipal de Carneirinho
CONTACT:Adjane Luiza de Queiroz\, 034 3454 1275\, secretaria@carneirinho.mg.leg.br
CLASS:PUBLIC
END:VEVENT
END:VCALENDAR
